BEGIN:VCALENDAR
VERSION:2.0
PRODID:-//Ungmennafélagið Njarðvík - ECPv6.8.0//NONSGML v1.0//EN
CALSCALE:GREGORIAN
METHOD:PUBLISH
X-WR-CALNAME:Ungmennafélagið Njarðvík
X-ORIGINAL-URL:https://umfn.is
X-WR-CALDESC:Events for Ungmennafélagið Njarðvík
REFRESH-INTERVAL;VALUE=DURATION:PT1H
X-Robots-Tag:noindex
X-PUBLISHED-TTL:PT1H
BEGIN:VTIMEZONE
TZID:UTC
BEGIN:STANDARD
TZOFFSETFROM:+0000
TZOFFSETTO:+0000
TZNAME:UTC
DTSTART:20210101T000000
END:STANDARD
END:VTIMEZONE
BEGIN:VEVENT
DTSTART;TZID=UTC:20221104T080000
DTEND;TZID=UTC:20221104T170000
DTSTAMP:20260420T040808
CREATED:20221104T085408Z
LAST-MODIFIED:20221104T085408Z
UID:24895-1667548800-1667581200@umfn.is
SUMMARY:Njarðvík-Grindavík
DESCRIPTION:Subwaydeild karla \nLjónagryfjan \n4. nóvember kl. 20:15
URL:https://umfn.is/event/njardvik-grindavik/
CATEGORIES:Körfubolti
END:VEVENT
BEGIN:VEVENT
DTSTART;TZID=UTC:20211022T201500
DTEND;TZID=UTC:20211022T220000
DTSTAMP:20260420T040808
CREATED:20211022T125118Z
LAST-MODIFIED:20211022T125118Z
UID:22839-1634933700-1634940000@umfn.is
SUMMARY:Njarðvík-Valur
DESCRIPTION:Lokaleikur 3. umferðar í Subwaydeild karla \nNjarðvík-Valur kl. 20:15 í Ljónagryfjunni
URL:https://umfn.is/event/njardvik-valur/
LOCATION:Ljónagryfjan\, Reykjanesbær
CATEGORIES:Körfubolti
END:VEVENT
END:VCALENDAR